BEGIN:VCALENDAR
VERSION:2.0
PRODID:-//ABINC - ECPv6.15.3//NONSGML v1.0//EN
CALSCALE:GREGORIAN
METHOD:PUBLISH
X-ORIGINAL-URL:https://abinc.org.br
X-WR-CALDESC:Eventos para ABINC
REFRESH-INTERVAL;VALUE=DURATION:PT1H
X-Robots-Tag:noindex
X-PUBLISHED-TTL:PT1H
BEGIN:VTIMEZONE
TZID:America/Sao_Paulo
BEGIN:STANDARD
TZOFFSETFROM:-0300
TZOFFSETTO:-0300
TZNAME:-03
DTSTART:20260101T000000
END:STANDARD
END:VTIMEZONE
BEGIN:VEVENT
DTSTART;TZID=America/Sao_Paulo:20260420T080000
DTEND;TZID=America/Sao_Paulo:20260424T170000
DTSTAMP:20260423T175543
CREATED:20260114T182603Z
LAST-MODIFIED:20260402T112036Z
UID:3924-1776672000-1777050000@abinc.org.br
SUMMARY:ABINC na Hannover Messe
DESCRIPTION:Em parceria com ABDI\, apresentação do Demonstrador de Data Spaces Industriais.
URL:https://abinc.org.br/evento/abinc-na-hannover-messe/
LOCATION:Minas Gerais
CATEGORIES:Evento
ATTACH;FMTTYPE=image/png:https://abinc.org.br/wp-content/uploads/2026/01/facebook-banner-scaled.png
END:VEVENT
END:VCALENDAR