BEGIN:VCALENDAR
VERSION:2.0
PRODID:-//ABINC - ECPv6.15.3//NONSGML v1.0//EN
CALSCALE:GREGORIAN
METHOD:PUBLISH
X-WR-CALNAME:ABINC
X-ORIGINAL-URL:https://abinc.org.br
X-WR-CALDESC:Eventos para ABINC
REFRESH-INTERVAL;VALUE=DURATION:PT1H
X-Robots-Tag:noindex
X-PUBLISHED-TTL:PT1H
BEGIN:VTIMEZONE
TZID:America/Sao_Paulo
BEGIN:STANDARD
TZOFFSETFROM:-0300
TZOFFSETTO:-0300
TZNAME:-03
DTSTART:20250101T000000
END:STANDARD
END:VTIMEZONE
BEGIN:VEVENT
DTSTART;TZID=America/Sao_Paulo:20250813T100000
DTEND;TZID=America/Sao_Paulo:20250813T120000
DTSTAMP:20260424T070711
CREATED:20241223T150627Z
LAST-MODIFIED:20250725T182656Z
UID:2949-1755079200-1755086400@abinc.org.br
SUMMARY:Webinar Dados | Casos de Uso com IA e IoT que estão transformando o mercado
DESCRIPTION:Neste webinar\, vamos apresentar casos de uso que combinam Inteligência Artificial e IoT para resolução de desafios reais em diversos segmentos\, unindo sensores inteligentes e algoritmos avançados para aplicação rápida de soluções de negócio. \nParticipantes confirmados: \n– Alessandro (Cabelo) de Oliveira Faria\, Cofundador da MultiCortex\n– Debora Lalo\, Technology Executive na Google Cloud/Consulting\n– Jorge Maia\, Arquiteto-Chefe na CrazyTechLabs\n– Cezar Taurion\, Conselheiro da ABINC\n– Valdir Pandolfi\, Líder do Comitê de Dados da ABINC e Diretor da ScientifiCloud AI
URL:https://abinc.org.br/evento/webinar-comite-de-dados-2/
CATEGORIES:Webinar
ATTACH;FMTTYPE=image/png:https://abinc.org.br/wp-content/uploads/2024/12/post_abinc_julho_11.png
END:VEVENT
END:VCALENDAR