BEGIN:VCALENDAR
VERSION:2.0
PRODID:-//ABINC - ECPv6.15.3//NONSGML v1.0//EN
CALSCALE:GREGORIAN
METHOD:PUBLISH
X-ORIGINAL-URL:https://abinc.org.br
X-WR-CALDESC:Eventos para ABINC
REFRESH-INTERVAL;VALUE=DURATION:PT1H
X-Robots-Tag:noindex
X-PUBLISHED-TTL:PT1H
BEGIN:VTIMEZONE
TZID:America/Sao_Paulo
BEGIN:STANDARD
TZOFFSETFROM:-0300
TZOFFSETTO:-0300
TZNAME:-03
DTSTART:20250101T000000
END:STANDARD
END:VTIMEZONE
BEGIN:VEVENT
DTSTART;VALUE=DATE:20250813
DTEND;VALUE=DATE:20250815
DTSTAMP:20260424T093443
CREATED:20250725T182257Z
LAST-MODIFIED:20250725T182318Z
UID:3550-1755043200-1755215999@abinc.org.br
SUMMARY:2º Horizons 2025
DESCRIPTION:ABINC no Horizons 2025 da FIA Business School! \nMarcaremos presença na 2ª edição do Horizons 2025\, um evento realizado pela FIA Business School em parceria com a Prefeitura de São Paulo\, Ade Sampa e Hub Green Sampa. \nNos dias 13 e 14 de agosto\, a iniciativa permite aos participantes sair da teoria e impulsionar resultados com propósito e inteligência coletiva. Destaques do evento: \n– Keynotes e painéis com CEOs\, investidores e pioneiros em inovação climática.\n– Horizons Academy – minicursos certificados em temas como IA para ESG\, advocacia\, agenda climática e cidades do futuro.\n– Mais de 30 sessões focadas em impacto real e colaboração intersetorial.
URL:https://abinc.org.br/evento/2o-horizons-2025/
CATEGORIES:Evento
ATTACH;FMTTYPE=image/jpeg:https://abinc.org.br/wp-content/uploads/2025/07/1752669565774.jpg
END:VEVENT
BEGIN:VEVENT
DTSTART;TZID=America/Sao_Paulo:20250813T100000
DTEND;TZID=America/Sao_Paulo:20250813T120000
DTSTAMP:20260424T093443
CREATED:20241223T150627Z
LAST-MODIFIED:20250725T182656Z
UID:2949-1755079200-1755086400@abinc.org.br
SUMMARY:Webinar Dados | Casos de Uso com IA e IoT que estão transformando o mercado
DESCRIPTION:Neste webinar\, vamos apresentar casos de uso que combinam Inteligência Artificial e IoT para resolução de desafios reais em diversos segmentos\, unindo sensores inteligentes e algoritmos avançados para aplicação rápida de soluções de negócio. \nParticipantes confirmados: \n– Alessandro (Cabelo) de Oliveira Faria\, Cofundador da MultiCortex\n– Debora Lalo\, Technology Executive na Google Cloud/Consulting\n– Jorge Maia\, Arquiteto-Chefe na CrazyTechLabs\n– Cezar Taurion\, Conselheiro da ABINC\n– Valdir Pandolfi\, Líder do Comitê de Dados da ABINC e Diretor da ScientifiCloud AI
URL:https://abinc.org.br/evento/webinar-comite-de-dados-2/
CATEGORIES:Webinar
ATTACH;FMTTYPE=image/png:https://abinc.org.br/wp-content/uploads/2024/12/post_abinc_julho_11.png
END:VEVENT
BEGIN:VEVENT
DTSTART;VALUE=DATE:20250827
DTEND;VALUE=DATE:20250829
DTSTAMP:20260424T093443
CREATED:20250725T181531Z
LAST-MODIFIED:20250725T181531Z
UID:3546-1756252800-1756425599@abinc.org.br
SUMMARY:Telco Transformation LATAM
DESCRIPTION:Está chegando o Telco Transformation Latam 2025! \nO evento\, organizado pela Conecta Latam em parceria com a ABINC\, acontecerá nos dias 27 e 28 de agosto\, no Windsor Oceânico Hotel\, Rio de Janeiro. Com mais de 800 executivos renomados no setor de telecomunicações\, os participantes terão a oportunidade de se conectar com líderes da indústria e explorar novas tendências e inovações. \nNo primeiro dia\, André Luis Azevedo Guedes\, DSc [V3]\, presidente da ABINC no RJ\, participará do painel “Uso das novas redes na América Latina”. O debate será iniciado às 11h30\, além de outros temas relevantes que serão abordados no decorrer da programação.
URL:https://abinc.org.br/evento/telco-transformation-latam/
LOCATION:Windsor Oceânico\, R. Martinho de Mesquita\, 129 - Barra da Tijuca\, Rio de Janeiro\, Rio de Janeiro\, Brazil
CATEGORIES:Evento
ATTACH;FMTTYPE=image/png:https://abinc.org.br/wp-content/uploads/2025/07/Banner-Telco-2025-1600x900-px.png
END:VEVENT
BEGIN:VEVENT
DTSTART;VALUE=DATE:20250903
DTEND;VALUE=DATE:20250905
DTSTAMP:20260424T093443
CREATED:20241223T150932Z
LAST-MODIFIED:20250811T201608Z
UID:2959-1756857600-1757030399@abinc.org.br
SUMMARY:IoT Solutions Congress Brasil
DESCRIPTION:A ABINC é apoiadora oficial do IoT Solutions Congress Brasil. Utilize o cupom de 30% ilimitado acessando o link: iotscongressbrasil.com.br/ingressos ou utilizando o código ABINC@IOTSCBR-30 \nO cupom de desconto poderá ser aplicado na página de ingressos da 4events\, após selecionar o respectivo ingresso no site.
URL:https://abinc.org.br/evento/iot-solutions-congress-brasil-2/
CATEGORIES:Congresso
ATTACH;FMTTYPE=image/png:https://abinc.org.br/wp-content/uploads/2024/12/1080x1350-copiar-2-1.png
END:VEVENT
BEGIN:VEVENT
DTSTART;TZID=America/Sao_Paulo:20250909T143000
DTEND;TZID=America/Sao_Paulo:20250909T170000
DTSTAMP:20260424T093443
CREATED:20240909T173049Z
LAST-MODIFIED:20250825T152501Z
UID:2957-1757428200-1757437200@abinc.org.br
SUMMARY:Webinar Comitê de Segurança - A Importância da Padronização em Prol da Hiperconectividade Segura
DESCRIPTION:Tema: A Importância da Padronização em Prol da Hiperconectividade Segura\n  \nAcompanhe a transmissão do encontro presencial do Comitê de Segurança da ABINC no Auditório da Ericsson. O evento vai destacar a importância da padronização para a construção de uma sociedade hiperconectada mais segura e os desafios da sua implementação. \nINSCREVA-SE PELO LINK: https://materiais.abinc.org.br/webinar-comite-de-seguranca-da-abinc-2025 \nPalestrantes confirmados:\n  \nYanis Stoyannis – Líder do Comitê de Segurança da ABINC e Customer Security Director na Ericsson \nLonginus Timochenco – CISO & Diretor de Governança Corporativa na VIVWSEC \nFernando Gebara Filho – Superintendente do Comitê Brasileiro de Tecnologia da Informação e Transformação Digital da ABNT \nMarcelo Luppe – Diretor Geral da Infineon Technologies South America \nAndrey Perez – Gerente de Obrigações de Qualidade na ANATEL \n\nAgenda\n14h30 – Abertura \n15h – Apresentação: Cenário de Ameaças Cibernéticas para IoT e o processo de desenvolvimento de normas de Segurança \n15h30 – 1º Painel: Desafios para a Concepção de Padrões de Segurança diante da Evolução do Ecossistema IoT e das Ameaças Cibernéticas \n16h15 – 2º Painel: Estratégias para a Adoção de Padrões em Prol da Construção de uma Sociedade Hiperconectada mais segura \n17h – Encerramento
URL:https://abinc.org.br/evento/webinar-comite-de-seguranca-abinc-2025/
CATEGORIES:Webinar
END:VEVENT
BEGIN:VEVENT
DTSTART;TZID=America/Sao_Paulo:20250916T100000
DTEND;TZID=America/Sao_Paulo:20250916T120000
DTSTAMP:20260424T093443
CREATED:20250815T184555Z
LAST-MODIFIED:20250815T184555Z
UID:3612-1758016800-1758024000@abinc.org.br
SUMMARY:Manifesto ABINC pela Continuidade e Ampliação dos Benefícios Fiscais para a IoT no Brasil
DESCRIPTION:Este manifesto ressalta a importância de prorrogar até 2030 os incentivos à IoT e revisar o modelo tributário\, ampliando a conectividade\, atraindo investimentos e acelerando a transformação digital em setores como agricultura\, saúde\, mobilidade e energia\, consolidando o Brasil como líder na América Latina. \n\n\n\n\n\n\n\n\n\nInscreva-se: https://materiais.abinc.org.br/webinar-manifesto
URL:https://abinc.org.br/evento/manifesto-abinc-pela-continuidade-e-ampliacao-dos-beneficios-fiscais-para-a-iot-no-brasil/
CATEGORIES:Webinar
END:VEVENT
BEGIN:VEVENT
DTSTART;VALUE=DATE:20250930
DTEND;VALUE=DATE:20251003
DTSTAMP:20260424T093443
CREATED:20250627T195523Z
LAST-MODIFIED:20250627T195646Z
UID:3455-1759190400-1759449599@abinc.org.br
SUMMARY:30º Edição | Futurecom
DESCRIPTION:A Futurecom 2025 está se aproximando e\, com ela\, uma oportunidade estratégica para empresas que desejam se destacar no universo da Internet das Coisas. A edição deste ano contará com um espaço exclusivo e inovador: o Hub de IoT\, um ecossistema dedicado a dar visibilidade\, gerar networking qualificado e impulsionar negócios no setor de IoT. \nHub de IoT da ABINC – Futurecom 2025 \nQuando – 30 de setembro a 02 de outubro de 2025\nOnde: São Paulo Expo | São Paulo\, Brasil\nLocalização do Hub de IoT: Rua H17 \nPara mais informações: \nAngélica Forli\nangelica@abinc.org.br\n+55 11 99162-6076
URL:https://abinc.org.br/evento/30o-edicao-futurecom/
END:VEVENT
BEGIN:VEVENT
DTSTART;VALUE=DATE:20251014
DTEND;VALUE=DATE:20251015
DTSTAMP:20260424T093443
CREATED:20250806T200502Z
LAST-MODIFIED:20250806T200502Z
UID:3581-1760400000-1760486399@abinc.org.br
SUMMARY:Webinar Comitê de Saúde
DESCRIPTION:
URL:https://abinc.org.br/evento/webinar-comite-de-saude/
CATEGORIES:Webinar
END:VEVENT
BEGIN:VEVENT
DTSTART;TZID=America/Sao_Paulo:20251022T140000
DTEND;TZID=America/Sao_Paulo:20251022T140000
DTSTAMP:20260424T093443
CREATED:20250829T121530Z
LAST-MODIFIED:20250918T200708Z
UID:3646-1761141600-1761141600@abinc.org.br
SUMMARY:Webinar ABINC & Velans: O Futuro do IoT em Smart Buildings
DESCRIPTION:Data: 22 de Outubro \n  \nHorário: 14h \n  \nTema: A REVOLUÇÃO DO IOT NA TRANSFORMAÇÃO DE SMART BUILDINGS \n  \nEdifícios inteligentes estão deixando de ser conceito para se tornarem realidade concreta no Brasil e no mundo. Hoje\, a integração de sensores de ocupação\, contagem e medição redefine a forma como gestores administram facilities\, energia e espaços\, colocando a experiência humana no centro da infraestrutura. \nNeste webinar\, Moisés Silva\, Paulo Spacca e (convidado a confirmar) discutem casos de sucesso e tendências de um mercado que cresce de forma acelerada\, ampliando conforto\, eficiência e sustentabilidade nos ambientes corporativos.
URL:https://abinc.org.br/evento/webinar-abinc-velans-o-futuro-do-iot-em-smart-buildings-2/
CATEGORIES:Evento
END:VEVENT
BEGIN:VEVENT
DTSTART;VALUE=DATE:20251105
DTEND;VALUE=DATE:20251108
DTSTAMP:20260424T093443
CREATED:20250825T201217Z
LAST-MODIFIED:20250826T130518Z
UID:3625-1762300800-1762559999@abinc.org.br
SUMMARY:Fisweek 2025
DESCRIPTION:O que é a #FSWK?  \nA #FSWK é o maior evento de Inovação\, Empreendedorismo e Tendências da Saúde da América Latina\, promovido pela Iniciativa FIS\, uma organização sem fins lucrativos e suprapartidária. O festival é projetado para gerar uma experiência única para o setor\, reunindo grandes nomes e conteúdos exclusivos. Acreditamos no poder do Ecossistema e nas diversas opiniões para resolver os desafios da saúde\, conectando todos os stakeholders do setor comprometidos com a transformação necessária.  \nA #FSWK visa conectar pessoas e engajar o ecossistema\, favorecendo discussões sobre temas como INOVAÇÃO\, INCLUSÃO\, EDUCAÇÃO\, EMPREENDEDORISMO\, GESTÃO\, MODELOS ASSISTENCIAIS\, COMPLEXO INDUSTRIAL\, entre outros. O evento reúne profissionais da saúde\, educadores e estudantes\, gestores\, reguladores\, políticos\, tomadores de decisão e startups em um mesmo espaço.  \nA edição de 2025 ocorrerá entre 05 a 07 de novembro\, em formato presencial\, no Centro de Convenções Expo Mag\, no centro do Rio de Janeiro\, próximo à zona Sul da cidade\, aos aeroportos Santos Dumont e Galeão\, à rodoviária e à rede hoteleira. O evento ocupará mais de 6.000 m²\, com 12 palcos\, áreas para startups\, feira\, workshops e outras atrações.
URL:https://abinc.org.br/evento/fis-week-2025/
END:VEVENT
BEGIN:VEVENT
DTSTART;TZID=America/Sao_Paulo:20260205T100000
DTEND;TZID=America/Sao_Paulo:20260205T103000
DTSTAMP:20260424T093443
CREATED:20260108T204657Z
LAST-MODIFIED:20260123T143628Z
UID:3917-1770285600-1770287400@abinc.org.br
SUMMARY:Webinar ABINC | ABNT NBR ISO/IEC 30173: O Marco Normativo dos Gêmeos Digitais no Brasil
DESCRIPTION:O webinar é direcionado a profissionais técnicos\, gestores\, integradores\, fabricantes\, pesquisadores e tomadores de decisão interessados na aplicação estruturada de Gêmeos Digitais\, alinhada às boas práticas internacionais e ao ecossistema brasileiro de IoT. \nA recente publicação da ISO/IEC 30173 marca um avanço significativo na consolidação do conceito de Gêmeos Digitais em nível internacional\, trazendo definições\, fundamentos e uma base comum para o desenvolvimento de soluções interoperáveis e escaláveis. Neste webinar\, o Grupo de Trabalho de Gêmeos Digitais da ABINC apresentará uma visão estruturada da norma\, abordando seus principais conceitos\, terminologia\, escopo e relação com outras normas ISO/IEC relacionadas à Internet das Coisas e sistemas digitais. \nSerão discutidos\, entre outros pontos: \n\nO que a ISO/IEC 30173 define como Gêmeo Digital\nEstrutura conceitual e terminológica da norma\nRelação entre Gêmeos Digitais\, IoT\, modelos de dados e arquiteturas digitais\nImplicações práticas para aplicações em indústria\, edifícios\, infraestrutura e plataformas digitais\nO papel da normalização na interoperabilidade\, maturidade tecnológica e escalabilidade das soluções\n\nWebinar ABINC | ABNT NBR ISO/IEC 30173: O Marco Normativo dos Gêmeos Digitais no Brasil \n05 de fevereiro de 2025 – 10h \nInscreva-se: https://materiais.abinc.org.br/webinar-gemeos-digitais-2026 \nAcesse no LinkedIn: https://www.linkedin.com/events/7420472719982514177
URL:https://abinc.org.br/evento/webinar-abinc-abnt-nbr-iso-iec-30173-o-marco-normativo-dos-gemeos-digitais-no-brasil/
CATEGORIES:Webinar
END:VEVENT
BEGIN:VEVENT
DTSTART;TZID=America/Sao_Paulo:20260409T080000
DTEND;TZID=America/Sao_Paulo:20260409T173000
DTSTAMP:20260424T093443
CREATED:20260114T183412Z
LAST-MODIFIED:20260318T185645Z
UID:3938-1775721600-1775755800@abinc.org.br
SUMMARY:Fórum IoT 2026 - Dia Mundial da Internet das Coisas
DESCRIPTION:Evento em comemoração ao Dia Mundial da Internet das Coisas (IoT Day)\, com palestras e painéis conduzidos por especialistas do mercado e da academia\, abordando os temas mais relevantes relacionados a IoT e tecnologias habilitadoras\, com foco em IoT como tecnologia já essencial da sociedade digital. \n  \n\nDia 09 de abril de 2026\nDas 13h30 às 17h30\nLaboratório Ideação – Inatel (Prédio 4\, Térreo)Com Painéis\, palestras e exposição de produtos\, empresas e pesquisas focadas em Internet das Coisas. \nInscreva-se: https://www.sympla.com.br/evento/forum-iot-2026-dia-mundial-da-internet-das-coisas/3329825?utm_medium=email&utm_campaign=iot_day_2026&utm_source=RD+Station
URL:https://abinc.org.br/evento/dia-mundial-da-internet-das-coisas-iot/
LOCATION:Instituto Nacional de Telecomunicações – Inatel\, Avenida João de Camargo\, 510 Centro\, Santa Rita do Sapucaí\, Minas Gerais\, 37536-001\, Brazil
CATEGORIES:Evento
ATTACH;FMTTYPE=image/png:https://abinc.org.br/wp-content/uploads/2026/01/Inatel-ForumIoT-save-WhatsApp1080x1080px.png
END:VEVENT
BEGIN:VEVENT
DTSTART;TZID=America/Sao_Paulo:20260420T080000
DTEND;TZID=America/Sao_Paulo:20260424T170000
DTSTAMP:20260424T093443
CREATED:20260114T182603Z
LAST-MODIFIED:20260402T112036Z
UID:3924-1776672000-1777050000@abinc.org.br
SUMMARY:ABINC na Hannover Messe
DESCRIPTION:Em parceria com ABDI\, apresentação do Demonstrador de Data Spaces Industriais.
URL:https://abinc.org.br/evento/abinc-na-hannover-messe/
CATEGORIES:Evento
ATTACH;FMTTYPE=image/png:https://abinc.org.br/wp-content/uploads/2026/01/facebook-banner-scaled.png
END:VEVENT
BEGIN:VEVENT
DTSTART;TZID=America/Sao_Paulo:20260505T160000
DTEND;TZID=America/Sao_Paulo:20260505T180000
DTSTAMP:20260424T093443
CREATED:20260218T153532Z
LAST-MODIFIED:20260218T153532Z
UID:4012-1777996800-1778004000@abinc.org.br
SUMMARY:Webinar | A Revolução do Saneamento com IoT: Como a Tecnologia Está Transformando a Gestão de Recursos Hídricos e Esgotamento
DESCRIPTION:
URL:https://abinc.org.br/evento/webinar-a-revolucao-do-saneamento-com-iot-como-a-tecnologia-esta-transformando-a-gestao-de-recursos-hidricos-e-esgotamento/
CATEGORIES:Webinar
END:VEVENT
BEGIN:VEVENT
DTSTART;VALUE=DATE:20260515
DTEND;VALUE=DATE:20260516
DTSTAMP:20260424T093443
CREATED:20260114T182641Z
LAST-MODIFIED:20260114T182641Z
UID:3926-1778803200-1778889599@abinc.org.br
SUMMARY:Webinar ABINC | Resultados do Demonstrador de Data Spaces Industriais na Hannover Messe
DESCRIPTION:Novas tecnologias aplicadas a tratamento e modelagem de Dados Industriais.
URL:https://abinc.org.br/evento/webinar-abinc-resultados-do-demonstrador-de-data-spaces-industriais-na-hannover-messe/
CATEGORIES:Webinar
END:VEVENT
BEGIN:VEVENT
DTSTART;VALUE=DATE:20260801
DTEND;VALUE=DATE:20260802
DTSTAMP:20260424T093443
CREATED:20260114T182738Z
LAST-MODIFIED:20260114T182738Z
UID:3928-1785542400-1785628799@abinc.org.br
SUMMARY:Webinar ABINC | Infraestrutura de Conectividade em 2026
DESCRIPTION:Do 5G ao Wi-Fi 7 como Motores das Cidades Inteligentes
URL:https://abinc.org.br/evento/webinar-abinc-infraestrutura-de-conectividade-em-2026/
CATEGORIES:Webinar
END:VEVENT
BEGIN:VEVENT
DTSTART;VALUE=DATE:20260820
DTEND;VALUE=DATE:20260821
DTSTAMP:20260424T093443
CREATED:20260114T182820Z
LAST-MODIFIED:20260114T182820Z
UID:3930-1787184000-1787270399@abinc.org.br
SUMMARY:Webinar ABINC | Open Industry - Casos reais em Mineração
DESCRIPTION:
URL:https://abinc.org.br/evento/webinar-abinc-open-industry-casos-reais-em-mineracao/
CATEGORIES:Webinar
END:VEVENT
BEGIN:VEVENT
DTSTART;TZID=America/Sao_Paulo:20261006T080000
DTEND;TZID=America/Sao_Paulo:20261008T170000
DTSTAMP:20260424T093443
CREATED:20260114T182859Z
LAST-MODIFIED:20260114T182859Z
UID:3932-1791273600-1791478800@abinc.org.br
SUMMARY:Futurecom 2026
DESCRIPTION:Realização do ABINC Summit e Prêmio ABINC de IoT 2026
URL:https://abinc.org.br/evento/futurecom-2026/
CATEGORIES:Evento
END:VEVENT
BEGIN:VEVENT
DTSTART;VALUE=DATE:20261101
DTEND;VALUE=DATE:20261102
DTSTAMP:20260424T093443
CREATED:20260114T182928Z
LAST-MODIFIED:20260114T182928Z
UID:3934-1793491200-1793577599@abinc.org.br
SUMMARY:Encontro presencial ABINC
DESCRIPTION:
URL:https://abinc.org.br/evento/encontro-presencial-abinc/
CATEGORIES:Evento
END:VEVENT
BEGIN:VEVENT
DTSTART;VALUE=DATE:20261201
DTEND;VALUE=DATE:20261202
DTSTAMP:20260424T093443
CREATED:20260114T183046Z
LAST-MODIFIED:20260114T183046Z
UID:3936-1796083200-1796169599@abinc.org.br
SUMMARY:Assembleia Geral Ordinária
DESCRIPTION:
URL:https://abinc.org.br/evento/assembleia-geral-ordinaria/
CATEGORIES:Evento
END:VEVENT
END:VCALENDAR