BEGIN:VCALENDAR
VERSION:2.0
PRODID:-//ABINC - ECPv6.15.3//NONSGML v1.0//EN
CALSCALE:GREGORIAN
METHOD:PUBLISH
X-WR-CALNAME:ABINC
X-ORIGINAL-URL:https://abinc.org.br
X-WR-CALDESC:Eventos para ABINC
REFRESH-INTERVAL;VALUE=DURATION:PT1H
X-Robots-Tag:noindex
X-PUBLISHED-TTL:PT1H
BEGIN:VTIMEZONE
TZID:America/Sao_Paulo
BEGIN:STANDARD
TZOFFSETFROM:-0300
TZOFFSETTO:-0300
TZNAME:-03
DTSTART:20250101T000000
END:STANDARD
END:VTIMEZONE
BEGIN:VEVENT
DTSTART;TZID=America/Sao_Paulo:20250206T080000
DTEND;TZID=America/Sao_Paulo:20250206T170000
DTSTAMP:20260424T144628
CREATED:20250124T141350Z
LAST-MODIFIED:20250124T141350Z
UID:3022-1738828800-1738861200@abinc.org.br
SUMMARY:Reunião virtual com asssociados de apresentação da agenda e estratégias para 2025
DESCRIPTION:
URL:https://abinc.org.br/evento/reuniao-virtual-com-asssociados-de-apresentacao-da-agenda-e-estrategias-para-2025/
END:VEVENT
END:VCALENDAR