BEGIN:VCALENDAR
VERSION:2.0
PRODID:-//ABINC - ECPv6.15.3//NONSGML v1.0//EN
CALSCALE:GREGORIAN
METHOD:PUBLISH
X-ORIGINAL-URL:https://abinc.org.br
X-WR-CALDESC:Eventos para ABINC
REFRESH-INTERVAL;VALUE=DURATION:PT1H
X-Robots-Tag:noindex
X-PUBLISHED-TTL:PT1H
BEGIN:VTIMEZONE
TZID:America/Sao_Paulo
BEGIN:STANDARD
TZOFFSETFROM:-0300
TZOFFSETTO:-0300
TZNAME:-03
DTSTART:20250101T000000
END:STANDARD
END:VTIMEZONE
BEGIN:VEVENT
DTSTART;VALUE=DATE:20250813
DTEND;VALUE=DATE:20250815
DTSTAMP:20260424T035929
CREATED:20250725T182257Z
LAST-MODIFIED:20250725T182318Z
UID:3550-1755043200-1755215999@abinc.org.br
SUMMARY:2º Horizons 2025
DESCRIPTION:ABINC no Horizons 2025 da FIA Business School! \nMarcaremos presença na 2ª edição do Horizons 2025\, um evento realizado pela FIA Business School em parceria com a Prefeitura de São Paulo\, Ade Sampa e Hub Green Sampa. \nNos dias 13 e 14 de agosto\, a iniciativa permite aos participantes sair da teoria e impulsionar resultados com propósito e inteligência coletiva. Destaques do evento: \n– Keynotes e painéis com CEOs\, investidores e pioneiros em inovação climática.\n– Horizons Academy – minicursos certificados em temas como IA para ESG\, advocacia\, agenda climática e cidades do futuro.\n– Mais de 30 sessões focadas em impacto real e colaboração intersetorial.
URL:https://abinc.org.br/evento/2o-horizons-2025/
CATEGORIES:Evento
ATTACH;FMTTYPE=image/jpeg:https://abinc.org.br/wp-content/uploads/2025/07/1752669565774.jpg
END:VEVENT
BEGIN:VEVENT
DTSTART;TZID=America/Sao_Paulo:20250813T100000
DTEND;TZID=America/Sao_Paulo:20250813T120000
DTSTAMP:20260424T035929
CREATED:20241223T150627Z
LAST-MODIFIED:20250725T182656Z
UID:2949-1755079200-1755086400@abinc.org.br
SUMMARY:Webinar Dados | Casos de Uso com IA e IoT que estão transformando o mercado
DESCRIPTION:Neste webinar\, vamos apresentar casos de uso que combinam Inteligência Artificial e IoT para resolução de desafios reais em diversos segmentos\, unindo sensores inteligentes e algoritmos avançados para aplicação rápida de soluções de negócio. \nParticipantes confirmados: \n– Alessandro (Cabelo) de Oliveira Faria\, Cofundador da MultiCortex\n– Debora Lalo\, Technology Executive na Google Cloud/Consulting\n– Jorge Maia\, Arquiteto-Chefe na CrazyTechLabs\n– Cezar Taurion\, Conselheiro da ABINC\n– Valdir Pandolfi\, Líder do Comitê de Dados da ABINC e Diretor da ScientifiCloud AI
URL:https://abinc.org.br/evento/webinar-comite-de-dados-2/
CATEGORIES:Webinar
ATTACH;FMTTYPE=image/png:https://abinc.org.br/wp-content/uploads/2024/12/post_abinc_julho_11.png
END:VEVENT
BEGIN:VEVENT
DTSTART;VALUE=DATE:20250827
DTEND;VALUE=DATE:20250829
DTSTAMP:20260424T035929
CREATED:20250725T181531Z
LAST-MODIFIED:20250725T181531Z
UID:3546-1756252800-1756425599@abinc.org.br
SUMMARY:Telco Transformation LATAM
DESCRIPTION:Está chegando o Telco Transformation Latam 2025! \nO evento\, organizado pela Conecta Latam em parceria com a ABINC\, acontecerá nos dias 27 e 28 de agosto\, no Windsor Oceânico Hotel\, Rio de Janeiro. Com mais de 800 executivos renomados no setor de telecomunicações\, os participantes terão a oportunidade de se conectar com líderes da indústria e explorar novas tendências e inovações. \nNo primeiro dia\, André Luis Azevedo Guedes\, DSc [V3]\, presidente da ABINC no RJ\, participará do painel “Uso das novas redes na América Latina”. O debate será iniciado às 11h30\, além de outros temas relevantes que serão abordados no decorrer da programação.
URL:https://abinc.org.br/evento/telco-transformation-latam/
LOCATION:Windsor Oceânico\, R. Martinho de Mesquita\, 129 - Barra da Tijuca\, Rio de Janeiro\, Rio de Janeiro\, Brazil
CATEGORIES:Evento
ATTACH;FMTTYPE=image/png:https://abinc.org.br/wp-content/uploads/2025/07/Banner-Telco-2025-1600x900-px.png
END:VEVENT
END:VCALENDAR