BEGIN:VCALENDAR
VERSION:2.0
PRODID:-//ABINC - ECPv6.15.3//NONSGML v1.0//EN
CALSCALE:GREGORIAN
METHOD:PUBLISH
X-WR-CALNAME:ABINC
X-ORIGINAL-URL:https://abinc.org.br
X-WR-CALDESC:Eventos para ABINC
REFRESH-INTERVAL;VALUE=DURATION:PT1H
X-Robots-Tag:noindex
X-PUBLISHED-TTL:PT1H
BEGIN:VTIMEZONE
TZID:America/Sao_Paulo
BEGIN:STANDARD
TZOFFSETFROM:-0300
TZOFFSETTO:-0300
TZNAME:-03
DTSTART:20260101T000000
END:STANDARD
END:VTIMEZONE
BEGIN:VEVENT
DTSTART;TZID=America/Sao_Paulo:20260505T160000
DTEND;TZID=America/Sao_Paulo:20260505T180000
DTSTAMP:20260423T162740
CREATED:20260218T153532Z
LAST-MODIFIED:20260218T153532Z
UID:4012-1777996800-1778004000@abinc.org.br
SUMMARY:Webinar | A Revolução do Saneamento com IoT: Como a Tecnologia Está Transformando a Gestão de Recursos Hídricos e Esgotamento
DESCRIPTION:
URL:https://abinc.org.br/evento/webinar-a-revolucao-do-saneamento-com-iot-como-a-tecnologia-esta-transformando-a-gestao-de-recursos-hidricos-e-esgotamento/
CATEGORIES:Webinar
END:VEVENT
BEGIN:VEVENT
DTSTART;VALUE=DATE:20260515
DTEND;VALUE=DATE:20260516
DTSTAMP:20260423T162740
CREATED:20260114T182641Z
LAST-MODIFIED:20260114T182641Z
UID:3926-1778803200-1778889599@abinc.org.br
SUMMARY:Webinar ABINC | Resultados do Demonstrador de Data Spaces Industriais na Hannover Messe
DESCRIPTION:Novas tecnologias aplicadas a tratamento e modelagem de Dados Industriais.
URL:https://abinc.org.br/evento/webinar-abinc-resultados-do-demonstrador-de-data-spaces-industriais-na-hannover-messe/
CATEGORIES:Webinar
END:VEVENT
END:VCALENDAR